BEGIN:VCALENDAR
VERSION:2.0
PRODID:-//MP Landcare - ECPv6.15.17.1//NONSGML v1.0//EN
CALSCALE:GREGORIAN
METHOD:PUBLISH
X-ORIGINAL-URL:https://mplandcare.org.au
X-WR-CALDESC:Events for MP Landcare
REFRESH-INTERVAL;VALUE=DURATION:PT1H
X-Robots-Tag:noindex
X-PUBLISHED-TTL:PT1H
BEGIN:VTIMEZONE
TZID:Australia/Melbourne
BEGIN:STANDARD
TZOFFSETFROM:+1100
TZOFFSETTO:+1000
TZNAME:AEST
DTSTART:20200404T160000
END:STANDARD
BEGIN:DAYLIGHT
TZOFFSETFROM:+1000
TZOFFSETTO:+1100
TZNAME:AEDT
DTSTART:20201003T160000
END:DAYLIGHT
BEGIN:STANDARD
TZOFFSETFROM:+1100
TZOFFSETTO:+1000
TZNAME:AEST
DTSTART:20210403T160000
END:STANDARD
BEGIN:DAYLIGHT
TZOFFSETFROM:+1000
TZOFFSETTO:+1100
TZNAME:AEDT
DTSTART:20211002T160000
END:DAYLIGHT
BEGIN:STANDARD
TZOFFSETFROM:+1100
TZOFFSETTO:+1000
TZNAME:AEST
DTSTART:20220402T160000
END:STANDARD
BEGIN:DAYLIGHT
TZOFFSETFROM:+1000
TZOFFSETTO:+1100
TZNAME:AEDT
DTSTART:20221001T160000
END:DAYLIGHT
END:VTIMEZONE
BEGIN:VEVENT
DTSTART;TZID=Australia/Melbourne:20210313T100000
DTEND;TZID=Australia/Melbourne:20210313T120000
DTSTAMP:20260425T015316
CREATED:20210309T232716Z
LAST-MODIFIED:20210309T232716Z
UID:2629-1615629600-1615636800@mplandcare.org.au
SUMMARY:Friends of Olivers Creek Reserve Working Bee
DESCRIPTION:Come and support the Friends of Olivers Creek Reserve at their next working bee at Olivers Creek Reserve. \nSaturday 13th March between 10am-12noon\, we would love to see you all. \nMeeting at the shelter on Mornington-Tyabb Road.
URL:https://mplandcare.org.au/event/friends-of-olivers-creek-reserve-working-bee/
LOCATION:Olivers Creek Reserve\, 190 Mornington-Tyabb Road\, Tyabb\, VIC\, 3913\, Australia
END:VEVENT
BEGIN:VEVENT
DTSTART;TZID=Australia/Melbourne:20210313T100000
DTEND;TZID=Australia/Melbourne:20210313T170000
DTSTAMP:20260425T015316
CREATED:20210210T033106Z
LAST-MODIFIED:20210210T033417Z
UID:2601-1615629600-1615654800@mplandcare.org.au
SUMMARY:Womin Djeka Festival
DESCRIPTION:Balnarring Preschool presents Womin Djeka\, a community Festival honouring and celebrating Indigenous cultures. \nThis is a family friendly alcohol and dog free event at Balnarring Beach\, Robertsons Park & Camping Reserve. Come along and enjoy entertainment\, food stalls\, craft stalls\, cultural workshops and children’s activities. Gates open 10am – Welcome to Country 11am \nWe acknowledge the festival is held on the land of the Boon Wurrung language group of the Kulin Nations. We acknowledge all First Peoples across Australia. We pay our respects to all Elders: past and present\, and thank them for sharing their stories and Knowledge. \nGet in contact early to let us know if we can help you to enjoy the festival even more by meeting your individual needs. \nWOMINDJEKA2021OfficialFlyer(A5) Final \n  \n 
URL:https://mplandcare.org.au/event/womin-djeka-festival/
LOCATION:Balnarring Beach Foreshore Reserve\, 154 Balnarring Beach Rd\, Balnarring Beach\, Victoria\, 3926\, Australia
ORGANIZER;CN="Balnarring Preschool":MAILTO:womindjeka.balnarring.ngargee@gmail.com
END:VEVENT
BEGIN:VEVENT
DTSTART;TZID=Australia/Melbourne:20210314T093000
DTEND;TZID=Australia/Melbourne:20210314T113000
DTSTAMP:20260425T015316
CREATED:20210309T231955Z
LAST-MODIFIED:20210310T000204Z
UID:2627-1615714200-1615721400@mplandcare.org.au
SUMMARY:Sheepwash Creek Landcare - Arthurs Seat State Park Working Bee
DESCRIPTION:Meeting at: 451 Arthurs Seat Rd\, Red Hill\nPlease be aware that the road gutters have been dug deeper so please drive in the driveway and park inside our gate ( you can park on the grass inside the gates). \nActivity: We will be doing a walk through an area previously done to remove new growth of pittosporum and other weeds.\nWe have equipment but feel free to bring your own. \nRSVP: Michelle de la Coeur mdelacoeur@gmail.com \n  \n 
URL:https://mplandcare.org.au/event/sheepwash-creek-landcare-arthurs-seat-state-park-working-bee/
LOCATION:451 Arthurs Seat Road\, 451 Arthurs Seat Road\, Red Hill\, Victoria\, 3937\, Australia
ORGANIZER;CN="Sheepwash Creek Catchment Landcare":MAILTO:mdelacoeur@gmail.com
END:VEVENT
BEGIN:VEVENT
DTSTART;TZID=Australia/Melbourne:20210314T094500
DTEND;TZID=Australia/Melbourne:20210314T120000
DTSTAMP:20260425T015316
CREATED:20201229T042637Z
LAST-MODIFIED:20201229T223327Z
UID:2279-1615715100-1615723200@mplandcare.org.au
SUMMARY:'Revegetating Wetlands' Walk & Talk
DESCRIPTION:“Revegetating Wetlands” walk and talk at ‘Lakehouse Farm’. \nMeeting at 9.45 am for a 10.00 am start and 12.00 pm  finish.\nBYO picnic lunch\, drink and chair if you would like to stay on for lunch after activity. \nEnquiries: maincreek@mplandcare.org.au
URL:https://mplandcare.org.au/event/revegetating-wetlands-walk-talk/
LOCATION:Lakehouse Farm\, 1776 Mornington-Flinders Road\, Main Ridge\, Victoria\, 3929\, Australia
END:VEVENT
BEGIN:VEVENT
DTSTART;TZID=Australia/Melbourne:20210314T100000
DTEND;TZID=Australia/Melbourne:20210314T140000
DTSTAMP:20260425T015316
CREATED:20210216T004433Z
LAST-MODIFIED:20210221T231256Z
UID:2609-1615716000-1615730400@mplandcare.org.au
SUMMARY:Balcombe and Moorooduc Landcare Group - Tanti Creek information talk and Landcare working bee
DESCRIPTION:Come and join our Landcare members and hear from a volunteer and member of the Friends of Tanti Creek about the history of the creek and its evolution to what it is today. \nPost talk come and treat some weeds along the creek line and discuss their potential impacts on the creek as well their relocation potential in a water body. \nStay for a BBQ and a cuppa after the tour and working bee. \nSunday 14th March 2021 at 10am-2pm. \nMeet at 93 Tanti Avenue Mornington (Mornington Skin Care Centre) for walk and talk followed by working bee near Mornington Station. \nSite Tour and Talk: 10.00 -11.00Working Bee: 11.00 – 12.30\nBBQ and Discussion: 12.30 – 14.00 \nWear comfy clothes and closed toe sturdy shoes and roll up your sleeves and meet your fellow Landcare neighbours. \nWe invite you to stay after the working bee for light refreshments.\nThis event is free to members of Balcombe & Moorooduc Landcare and interested locals. \nRSVP to Tony O’Connor: loctoc@bigpond.net.au\, 0404 951 500
URL:https://mplandcare.org.au/event/tanti-creek-information-talk-and-landcare-working-bee/
LOCATION:Mornington Railway Station\, Watt Road\, Mornington\, Victoria\, 3931\, Australia
END:VEVENT
BEGIN:VEVENT
DTSTART;TZID=Australia/Melbourne:20210321T134500
DTEND;TZID=Australia/Melbourne:20210321T160000
DTSTAMP:20260425T015316
CREATED:20201229T041526Z
LAST-MODIFIED:20210221T231641Z
UID:2273-1616334300-1616342400@mplandcare.org.au
SUMMARY:Topical talks: What is Climate Change and what can we do about it?' and  'Managing Bushfire Risk'
DESCRIPTION:Main Creek Catchment Landcare Group invites you to attend two important topical talks: \n“What is Climate Change and What can we do about it?” by Dr Greg Holland \nAND \n“Bushfire Management in a Changing Climate” by Dr Jeremy Little\, Bushfire Management Officer\, Natural Systems Team\, Mornington Peninsula Shire.
URL:https://mplandcare.org.au/event/topical-talks-what-is-climate-change-and-what-can-we-do-about-it-and-myth-busting-fire-management-and-bushfire-risk/
LOCATION:Main Ridge Community Hall\, 411 Main Creek Road\, Main Ridge\, Victoria\, 3929\, Australia
ORGANIZER;CN="Main Creek Catchment Landcare Group":MAILTO:maincreek@mplandcare.org.au
END:VEVENT
BEGIN:VEVENT
DTSTART;TZID=Australia/Melbourne:20210327T090000
DTEND;TZID=Australia/Melbourne:20210327T233000
DTSTAMP:20260425T015316
CREATED:20210316T012825Z
LAST-MODIFIED:20210316T013259Z
UID:2634-1616835600-1616887800@mplandcare.org.au
SUMMARY:Merrick-Coolart Landcare Walk & Talk @ Jacks Beach Reserve
DESCRIPTION:Everyone welcome! Bring family and friends to what will be a great walk around one of our wonderful native parklands. To make it even more special we have Anthony Fennell one of the people associated with the revegetation and care of the park since 2012. He is going to be telling us about the various aspects of establishing and caring for the parklands. \nWhere: Jacks Beach\, Bittern (Limited car spaces in carpark\, so carpooling would be great. Please be mindful if parking on the main road especially as the entrance is on the bend.). \nWhen: Saturday 27th March at 9:00am. \nDistance: This is a 6km return trip on fairly flat ground\, so can cater for prams or children on small bicycles. \nDogs are not allowed in the park. \nToilets located at Jacks Beach end. \nMorning Tea: Optional to bring your thermos and a chair for a cuppa afterwards.\nRSVP: Please RSVP to mcclandcaregroup@gmail.com if you are planning on coming.
URL:https://mplandcare.org.au/event/merrick-coolart-landcare-walk-talk-jacks-beach-reserve/
LOCATION:Jacks Beach Reserve\, Wooleys Rd\, Bittern\, Victoria\, 3918\, Australia
ORGANIZER;CN="Merricks-Coolart Catchment Landcare Group":MAILTO:mcclandcaregroup@gmail.com
END:VEVENT
END:VCALENDAR