BEGIN:VCALENDAR
VERSION:2.0
PRODID:-//MP Landcare - ECPv6.15.17.1//NONSGML v1.0//EN
CALSCALE:GREGORIAN
METHOD:PUBLISH
X-WR-CALNAME:MP Landcare
X-ORIGINAL-URL:https://mplandcare.org.au
X-WR-CALDESC:Events for MP Landcare
REFRESH-INTERVAL;VALUE=DURATION:PT1H
X-Robots-Tag:noindex
X-PUBLISHED-TTL:PT1H
BEGIN:VTIMEZONE
TZID:Australia/Melbourne
BEGIN:STANDARD
TZOFFSETFROM:+1100
TZOFFSETTO:+1000
TZNAME:AEST
DTSTART:20180331T160000
END:STANDARD
BEGIN:DAYLIGHT
TZOFFSETFROM:+1000
TZOFFSETTO:+1100
TZNAME:AEDT
DTSTART:20181006T160000
END:DAYLIGHT
BEGIN:STANDARD
TZOFFSETFROM:+1100
TZOFFSETTO:+1000
TZNAME:AEST
DTSTART:20190406T160000
END:STANDARD
BEGIN:DAYLIGHT
TZOFFSETFROM:+1000
TZOFFSETTO:+1100
TZNAME:AEDT
DTSTART:20191005T160000
END:DAYLIGHT
BEGIN:STANDARD
TZOFFSETFROM:+1100
TZOFFSETTO:+1000
TZNAME:AEST
DTSTART:20200404T160000
END:STANDARD
BEGIN:DAYLIGHT
TZOFFSETFROM:+1000
TZOFFSETTO:+1100
TZNAME:AEDT
DTSTART:20201003T160000
END:DAYLIGHT
END:VTIMEZONE
BEGIN:VEVENT
DTSTART;TZID=Australia/Melbourne:20190804T093000
DTEND;TZID=Australia/Melbourne:20190804T123000
DTSTAMP:20260425T092616
CREATED:20190731T130409Z
LAST-MODIFIED:20190731T130409Z
UID:1624-1564911000-1564921800@mplandcare.org.au
SUMMARY:Help restore Koala habitat in Main Ridge
DESCRIPTION:HELP WANTED!\nWORKING BEE TO RESTORE KOALA HABITAT along MACPHERSONS LANE MAIN RIDGE\n9.30 –12.30 SUNDAY 4 AUGUST \nEnquiries:\nMichelle Stacey on 0409 031 108 or email: admin@wildman.net.au  Main Creek Catchment Landcare Group \nALL WELCOME \nREMOVING TREE GUARDS\, PLANTING & RUBBISH REMOVAL.\nWear strong boots\, gloves\, weather appropriate clothing.\nPark on cnr Baldrys Road\n& Macphersons Lane\,\nMain Ridge.\nMelways Map 171\, F1
URL:https://mplandcare.org.au/event/help-restore-koala-habitat-in-main-ridge/
LOCATION:Macphersons Lane\, Main Ridge\, Cnr Baldrys & Macphersons Lane\, Main Ridge\, VIC\, 3928\, Australia
END:VEVENT
BEGIN:VEVENT
DTSTART;TZID=Australia/Melbourne:20190802T190000
DTEND;TZID=Australia/Melbourne:20190802T203000
DTSTAMP:20260425T092616
CREATED:20190801T004153Z
LAST-MODIFIED:20190801T004153Z
UID:1637-1564772400-1564777800@mplandcare.org.au
SUMMARY:Reptiles of Victoria Presentation
DESCRIPTION:Mornington Peninsula Shire in conjunction with Friends of Chinamans Creek invite you to: \nAn illustrated presentation by Peter Robertson. \nWhere: Mornington Peninsula Shire Office– 90 Besgrove Street\, Rosebud\nWhen: Friday 2nd August 2019\nTime: 7:00pm\nCost: Gold coin\nRegister: https://www.eventbrite.com.au/e/an-illustrated-presentation-by-peter-robertson-tickets63542546467\nAll profits raised will go towards the protection of the endangered Swamp Skink and conservation works\nat the Boneo Primary School Wetlands Education Centre.\nNorman Mckinlay\n03 59885616\nswampskink@gmail.com\nDiscounted copies of Peters “Reptiles of Victoria” will be available to purchase \nPeter Robertson presentation_Fullpage
URL:https://mplandcare.org.au/event/reptiles-of-victoria-presentation/
LOCATION:90 besgrove Street\, Rosebud\, MP Shire offices\, 90 Besgrove Street\, Rosebud\, VIC\, 3939\, Australia
END:VEVENT
BEGIN:VEVENT
DTSTART;TZID=Australia/Melbourne:20190728T093000
DTEND;TZID=Australia/Melbourne:20190728T133000
DTSTAMP:20260425T092616
CREATED:20181008T014300Z
LAST-MODIFIED:20190708T235739Z
UID:1501-1564306200-1564320600@mplandcare.org.au
SUMMARY:National Tree Day - July 28\, 2019
DESCRIPTION:July 28\, 2019  National Tree Day – Dunns Creek Biolink \nat “Sussex Farm” 2 Gibb Rd\, Red Hill (off Dunns Creek Rd) 9.00am for a 9.30am start – bbq lunch to follow. \nFlyer: https://www.dropbox.com/s/xphaewjuioom0in/National%20Tree%20Day%20Flyer%2028%20July%202019.pdf?dl=0 \nPlease join in ! \n  \n  \n 
URL:https://mplandcare.org.au/event/national-tree-day-july-28-2019/
LOCATION:2 Gibb Rd\, Red Hill\, 2 Gibb Rd\, Red Hill\, 3937
END:VEVENT
END:VCALENDAR