BEGIN:VCALENDAR
VERSION:2.0
PRODID:-//MP Landcare - ECPv6.15.17.1//NONSGML v1.0//EN
CALSCALE:GREGORIAN
METHOD:PUBLISH
X-WR-CALNAME:MP Landcare
X-ORIGINAL-URL:https://mplandcare.org.au
X-WR-CALDESC:Events for MP Landcare
REFRESH-INTERVAL;VALUE=DURATION:PT1H
X-Robots-Tag:noindex
X-PUBLISHED-TTL:PT1H
BEGIN:VTIMEZONE
TZID:Australia/Melbourne
BEGIN:STANDARD
TZOFFSETFROM:+1100
TZOFFSETTO:+1000
TZNAME:AEST
DTSTART:20180331T160000
END:STANDARD
BEGIN:DAYLIGHT
TZOFFSETFROM:+1000
TZOFFSETTO:+1100
TZNAME:AEDT
DTSTART:20181006T160000
END:DAYLIGHT
BEGIN:STANDARD
TZOFFSETFROM:+1100
TZOFFSETTO:+1000
TZNAME:AEST
DTSTART:20190406T160000
END:STANDARD
BEGIN:DAYLIGHT
TZOFFSETFROM:+1000
TZOFFSETTO:+1100
TZNAME:AEDT
DTSTART:20191005T160000
END:DAYLIGHT
BEGIN:STANDARD
TZOFFSETFROM:+1100
TZOFFSETTO:+1000
TZNAME:AEST
DTSTART:20200404T160000
END:STANDARD
BEGIN:DAYLIGHT
TZOFFSETFROM:+1000
TZOFFSETTO:+1100
TZNAME:AEDT
DTSTART:20201003T160000
END:DAYLIGHT
BEGIN:STANDARD
TZOFFSETFROM:+1100
TZOFFSETTO:+1000
TZNAME:AEST
DTSTART:20210403T160000
END:STANDARD
BEGIN:DAYLIGHT
TZOFFSETFROM:+1000
TZOFFSETTO:+1100
TZNAME:AEDT
DTSTART:20211002T160000
END:DAYLIGHT
BEGIN:STANDARD
TZOFFSETFROM:+1100
TZOFFSETTO:+1000
TZNAME:AEST
DTSTART:20220402T160000
END:STANDARD
BEGIN:DAYLIGHT
TZOFFSETFROM:+1000
TZOFFSETTO:+1100
TZNAME:AEDT
DTSTART:20221001T160000
END:DAYLIGHT
END:VTIMEZONE
BEGIN:VEVENT
DTSTART;TZID=Australia/Melbourne:20210226T090000
DTEND;TZID=Australia/Melbourne:20210226T110000
DTSTAMP:20260426T014526
CREATED:20201229T042036Z
LAST-MODIFIED:20210104T222552Z
UID:2277-1614330000-1614337200@mplandcare.org.au
SUMMARY:Friends of Flinders Coastline 'Establishing Native Grasslands'
DESCRIPTION:Join with the Friends of Flinders Coastline for a walk and talk plus working bee to explore the topic ‘Establishing Native Grasslands’. \nMeeting at Mushroom Reef car park\, Flinders Ocean Beach. \nEnquiries: maincreek@mplandcare.org.au \n 
URL:https://mplandcare.org.au/event/friends-of-flinders-coastline-establishing-native-grasslands/
LOCATION:Mushroom Reef Carpark\, Flinders Ocean Beach Entry Rd\, Flinders\, Victoria\, 3929\, Australia
END:VEVENT
BEGIN:VEVENT
DTSTART;TZID=Australia/Melbourne:20210221T090000
DTEND;TZID=Australia/Melbourne:20210221T140000
DTSTAMP:20260426T014526
CREATED:20210210T025802Z
LAST-MODIFIED:20210210T033214Z
UID:2598-1613898000-1613916000@mplandcare.org.au
SUMMARY:Koala Conservation Day - Arthurs Seat State Park
DESCRIPTION:Spend the morning with us and help improve koala habitat in the beautiful Arthurs Seat State Park\, Rosebud.  This is a great opportunity to learn about our environment and to spot local wildlife\, including koalas\, while helping us to remove invasive weeds. \nImportant Information: It is important you wear long pants and closed shoes as we will be walking through bush areas. Please bring sunscreen\, a hat\, gardening gloves\, water and snacks. We have a good chance of spotting wildlife in this area so don’t forget your camera! We will provide all tools and hand sanitiser. Please follow state government COVID restrictions. \nPlease park at the end of Seabrook Ave\, Rosebud at the entrance to Arthurs Seat State Park.  We will meet at the park entrance gate. Alternative parking is at the end of Marion Rd\, Rosebud. You can walk into the park from there through a gate and then immediately turn right and walk downhill past the last property on Marion Rd until you get to Seabrook Ave. \nYou must register your attendance here via Eventbrite. Please only register if you are definitely attending as space is limited.
URL:https://mplandcare.org.au/event/koala-conservation-day-arthurs-seat-state-park/
LOCATION:Seabrook Avenue\, Seabrook Avenue\, Rosebud\, VIC\, 3939\, Australia
END:VEVENT
BEGIN:VEVENT
DTSTART;TZID=Australia/Melbourne:20210216T170000
DTEND;TZID=Australia/Melbourne:20210216T170000
DTSTAMP:20260426T014526
CREATED:20201229T021221Z
LAST-MODIFIED:20201229T022046Z
UID:2237-1613494800-1613494800@mplandcare.org.au
SUMMARY:Balcombe and Moorooduc Landcare Group CoM Meeting
DESCRIPTION:Balcombe and Moorooduc Landcare group’s Committee of Management meet quarterly to discuss group objectives and event planning. New members welcome. \nRSVP: Secretary Susan Churchill: bmlgcommittee@gmail.com
URL:https://mplandcare.org.au/event/balcombe-and-moorooduc-landcare-group-com-meeting-3/
LOCATION:TBA
END:VEVENT
BEGIN:VEVENT
DTSTART;TZID=Australia/Melbourne:20210131T070000
DTEND;TZID=Australia/Melbourne:20210131T160000
DTSTAMP:20260426T014526
CREATED:20210120T103001Z
LAST-MODIFIED:20210121T033933Z
UID:2565-1612076400-1612108800@mplandcare.org.au
SUMMARY:World Wetlands Day Celebration 2021
DESCRIPTION:World Wetlands Day is fast approaching\, and will be celebrated once again at Boneo Park\, 312 Boneo Road\, Boneo on Sunday 31st January 2021. \nThe theme for this year is ‘Wetlands and Water’ and the event marks the 50th anniversary of the Ramsar treaty and 40th anniversary of Western Port being declared a Ramsar site. \nThe Mornington Peninsula Landcare Network will be in attendance with a dedicated Landcare marquee and display\, and of course it wouldn’t be World Wetlands Day without a famous Landcare Puppet show. \nThis is a free event\, all wecome! Due to Covid requirements\, registration will be required for entry. \nPlease see Event Flyer for full itinerary. \n 
URL:https://mplandcare.org.au/event/world-wetlands-day-celebration-2021/
LOCATION:Boneo Park\, 312 Boneo Road\, Boneo\, VIC\, 3939\, Australia
END:VEVENT
BEGIN:VEVENT
DTSTART;TZID=Australia/Melbourne:20210130T090000
DTEND;TZID=Australia/Melbourne:20210130T120000
DTSTAMP:20260426T014526
CREATED:20210129T104513Z
LAST-MODIFIED:20210129T104525Z
UID:2587-1611997200-1612008000@mplandcare.org.au
SUMMARY:Buckleys Reserve Working Bee
DESCRIPTION:Come along on Saturday and lend a hand  to help preserve Buckley Nature Conservation Reserve in Balnarring. Buckleys is a beautiful patch of remnant bushland and home to some rare and threatened plants and animals. \nMerricks-Coolart Catchment Landcare Group Working Bee – Buckleys Reserve 9am Saturday 30th January 2021. Target species pittosporum. pulling small ones and cutting and painting others.
URL:https://mplandcare.org.au/event/buckleys-reserve-working-bee/
LOCATION:Buckley Nature Conservation Reserve\, 129 Balnarring Road\, Balnarring\, Victoria\, 3926\, Australia
ORGANIZER;CN="Merricks-Coolart Catchment Landcare Group":MAILTO:mcclandcaregroup@gmail.com
END:VEVENT
BEGIN:VEVENT
DTSTART;TZID=Australia/Melbourne:20210123T093000
DTEND;TZID=Australia/Melbourne:20210123T120000
DTSTAMP:20260426T014526
CREATED:20210104T225620Z
LAST-MODIFIED:20210104T225620Z
UID:2486-1611394200-1611403200@mplandcare.org.au
SUMMARY:Arthurs Seat Hike
DESCRIPTION:With the holiday season upon us come on a hike through the Sheepwash Creek Catchment Landcare area\, walking through Arthurs Seat State Park and past the OT Dam. \nThe hike will take 2 and a half hours and you’ll need good walking/hiking shoes. Hiking poles are not essential but a good idea. We have 7 spare hiking poles if anyone would like to borrow. \nThe hike is at a slow pace with lots of stops to take in our wonderful nature. \nRSVP: sheepwashcreek@mplandcare.org.au \nMeeting at 451 Arthurs Seat Rd\, Red Hill at 9.30am\, Saturday 23rd January  2021
URL:https://mplandcare.org.au/event/arthurs-seat-hike/
LOCATION:451 Arthurs Seat Road\, 451 Arthurs Seat Road\, Red Hill\, Victoria\, 3937\, Australia
END:VEVENT
BEGIN:VEVENT
DTSTART;TZID=Australia/Melbourne:20210110T100000
DTEND;TZID=Australia/Melbourne:20210110T120000
DTSTAMP:20260426T014526
CREATED:20201229T040653Z
LAST-MODIFIED:20210104T222242Z
UID:2267-1610272800-1610280000@mplandcare.org.au
SUMMARY:Main Creek Street Stall
DESCRIPTION:Main Creek Landcare will hold a stall outside the General Store in Cook Street\, Flinders from 10am onwards \nCome to meet your Landcare committee and other Landcarers there. \nBring your questions and ideas to share.
URL:https://mplandcare.org.au/event/main-creek-pop-up-stall/
LOCATION:Flinders General Store\, 48 Cook Street\, Flinders\, Victoria\, 3929\, Australia
END:VEVENT
BEGIN:VEVENT
DTSTART;TZID=Australia/Melbourne:20210105T080000
DTEND;TZID=Australia/Melbourne:20210105T170000
DTSTAMP:20260426T014526
CREATED:20210104T230437Z
LAST-MODIFIED:20210104T230514Z
UID:2490-1609833600-1609866000@mplandcare.org.au
SUMMARY:Sheepwash Creek Catchment Landcare Working Bee
DESCRIPTION:Sheepwash Creek Catchment Landcare Group are are hosting their first working bee for the year on Sunday 14th February. Come along and help to restore important habitat for local wildlife. \nMeeting Place: 451 Arthurs Seat Rd\, Red Hill at 9.30am \nNew members and enquiries welcome: sheepwashcreek@mplandcare.org.au \n 
URL:https://mplandcare.org.au/event/sheepwash-creek-catchment-landcare-working-bee/
LOCATION:Victoria
END:VEVENT
BEGIN:VEVENT
DTSTART;TZID=Australia/Melbourne:20201212T100000
DTEND;TZID=Australia/Melbourne:20201212T140000
DTSTAMP:20260426T014526
CREATED:20201210T032812Z
LAST-MODIFIED:20201210T032812Z
UID:2194-1607767200-1607781600@mplandcare.org.au
SUMMARY:Mornington Railway Reserve Working Bee - with Kylie Robertson from Seeds
DESCRIPTION:Removing noxious weeds in significant remnant Plains Grassy Woodland. \nMeet at Diamond Ct (300m north of Bungower Rd)\nThere is room for a few cars in Diamond Ct and overflow parking in the Bungower Rd service road (short walk up the railway line to Diamond Ct meeting place). \nIf you can come for some or all of that time please do. It is our last working bee for the year.\nTools that may be useful include saws\, weeding knives\, secateurs\, loppers etc. \nIf you can’t pull\, lop or dig weeds then you could be our official photographer\, write an article\, bring a cake\, tell a joke or . . . . \n 
URL:https://mplandcare.org.au/event/mornington-railway-reserve-working-bee-with-kylie-robertson-from-seeds/
LOCATION:Diamond Court Mornington\, Diamond Court\, Mornington\, Victoria\, 3931\, Australia
END:VEVENT
BEGIN:VEVENT
DTSTART;TZID=Australia/Melbourne:20200503T140000
DTEND;TZID=Australia/Melbourne:20200503T153000
DTSTAMP:20260426T014526
CREATED:20200420T122227Z
LAST-MODIFIED:20200420T122232Z
UID:1959-1588514400-1588519800@mplandcare.org.au
SUMMARY:Koala Community Information Session for Wild Koala Day
DESCRIPTION:Exciting news! Given we are all confined to our homes these days we have decided to run a Community Information Session via Zoom – just in time for ‘Wild Koala Day’ on Sunday\, 3 May 2020 @ 2pm. \nJoin us and learn what you can do to help our local koalas. This is a Zoom meeting for Mornington Peninsula residents and everyone else interested in koala and nature conservation. \nDr Desley Whisson and Dirk Jansen (President of MP Koala Conservation) will share what we know about koalas on the Mornington Peninsula followed by an online Q&A. We also have some exciting projects planned over the next 18 months (COVID-19 permitting). \nImportant – You have to register via Eventbrite to obtain the Zoom details either via our Facebook event on our page: Mornington Peninsula Koala Conservation or directly via the Eventbrite link: https://www.eventbrite.com/o/mornington-peninsula-koala-conservation-30087804578 We are expecting a big turnout via Zoom so please ensure you read the Zoom etiquette for this meeting. \n 
URL:https://mplandcare.org.au/event/koala-community-information-session-for-wild-koala-day/
LOCATION:Victoria
CATEGORIES:Mornington Peninsula Koala Conservation
END:VEVENT
BEGIN:VEVENT
DTSTART;VALUE=DATE:20200423
DTEND;VALUE=DATE:20200424
DTSTAMP:20260426T014526
CREATED:20200422T235509Z
LAST-MODIFIED:20200422T235523Z
UID:1989-1587600000-1587686399@mplandcare.org.au
SUMMARY:SWaMP Landcare
DESCRIPTION:Due to the public health risk of Covid-19\, all SWaMP Landcare events have been postponed.
URL:https://mplandcare.org.au/event/swamp-landcare/
LOCATION:Victoria
END:VEVENT
BEGIN:VEVENT
DTSTART;TZID=Australia/Melbourne:20200307T083000
DTEND;TZID=Australia/Melbourne:20200307T153000
DTSTAMP:20260426T014526
CREATED:20200218T030753Z
LAST-MODIFIED:20200218T030859Z
UID:1914-1583569800-1583595000@mplandcare.org.au
SUMMARY:Red Hill Show Landcare Stall
DESCRIPTION:Join MP Landcare groups at the Red Hill Show! We’ve got lots of information for landholders and some great weed and indigenous plant displays.
URL:https://mplandcare.org.au/event/red-hill-show-landcare-stall/
LOCATION:Red Hill Recreation Reserve\, 184 Arthurs Seat Road\, Arthurs Seat\, VIC\, 3937\, Australia
CATEGORIES:Main Creek Catchment Landcare Group
END:VEVENT
BEGIN:VEVENT
DTSTART;TZID=Australia/Melbourne:20200229T090000
DTEND;TZID=Australia/Melbourne:20200229T100000
DTSTAMP:20260426T014526
CREATED:20200218T224903Z
LAST-MODIFIED:20200218T224903Z
UID:1920-1582966800-1582970400@mplandcare.org.au
SUMMARY:Balnarring Beach to Somers Walk
DESCRIPTION:Join your local Landcare Group for a stroll around some of the lovely reserves in our neighborhood. Learn more about the history of the area and the indigenous flora and fauna.\nWe suggest you wear sturdy shoes\, long pants and shirt and hat. Please bring your own water bottle and if you wish to stay and chat after the walk byo cuppa (thermos)\, cake supplied.\nWalks will take around an hour\, they are not difficult but please consider the weather of the day. Friends are most welcome. \nTo register\, contact: Libby LeRossignol on 0418 558 998 libbyleross@gmail.com
URL:https://mplandcare.org.au/event/balnarring-beach-to-somers-walk/
LOCATION:Balnarring Beach – details upon registration\, Balnarring Beach
ORGANIZER;CN="Merricks-Coolart Catchment Landcare Group":MAILTO:mcclandcaregroup@gmail.com
END:VEVENT
BEGIN:VEVENT
DTSTART;TZID=Australia/Melbourne:20200223T100000
DTEND;TZID=Australia/Melbourne:20200223T140000
DTSTAMP:20260426T014526
CREATED:20200218T024817Z
LAST-MODIFIED:20200218T024834Z
UID:1906-1582452000-1582466400@mplandcare.org.au
SUMMARY:Mt Eliza Regional Park (Victory Reserve) weeding and local history walk
DESCRIPTION:Join our Landcare members and hear from a long-term volunteer and Shire representative talk about Mount Eliza Regional Park\, its past present and future.\nPost-talk\, we’ll treat some woody weeds. Stay for a BBQ and a cuppa after the tour and working bee\nSite Tour and Talk: 10.00 -11.00\nWorking Bee: 11.00 – 12.30\nBBQ and Discussion: 12.30 – 14.00\n \nWear comfy clothes and closed toe sturdy shoes and roll up your sleeves\nand meet your fellow Landcare neighbours.\nWe invite you to stay after the working bee for light refreshments.\nThis event is free to members of Balcombe & Moorooduc Landcare and interested locals.\nRSVP to Tony O’Connor: loctoc@bigpond.net.au\, 0404 951 500
URL:https://mplandcare.org.au/event/mt-eliza-regional-park-victory-reserve-weeding-and-local-history-walk/
LOCATION:Victory place\, Mt Eliza\, Victory Place\, Mt Eliza\, VIC\, 3930\, Australia
CATEGORIES:Balcombe and Moorooduc Landcare Group
END:VEVENT
BEGIN:VEVENT
DTSTART;TZID=Australia/Melbourne:20191216T160000
DTEND;TZID=Australia/Melbourne:20191216T170000
DTSTAMP:20260426T014526
CREATED:20191111T023545Z
LAST-MODIFIED:20191111T023545Z
UID:1783-1576512000-1576515600@mplandcare.org.au
SUMMARY:Walking tour - Coolart Reserve
DESCRIPTION:Join your local Landcare Group for a stroll around some of the lovely reserves in our neighborhood. Learn more about the history of the area and the indigenous flora and fauna. \n \nWe suggest you wear sturdy shoes\, long pants and shirt and hat. Please bring your own water bottle and if you wish to stay and chat after the walk byo cuppa (thermos)\, cake supplied.\nWalks will take around an hour\, they are not difficult but please consider the weather of the day. Friends are most welcome. \nMeeting point will be provided upon registration.
URL:https://mplandcare.org.au/event/walking-tour-coolart-reserve/
LOCATION:Victoria
CATEGORIES:Merricks-Coolart Catchment Landcare Group
END:VEVENT
BEGIN:VEVENT
DTSTART;TZID=Australia/Melbourne:20191211T133000
DTEND;TZID=Australia/Melbourne:20191211T150000
DTSTAMP:20260426T014526
CREATED:20190918T093826Z
LAST-MODIFIED:20191209T001541Z
UID:1738-1576071000-1576076400@mplandcare.org.au
SUMMARY:Working bee at Balnarring Primary School
DESCRIPTION:All welcome to assist Balnarring Primary School in the maintenance of their beautiful wetlands. \nMeet outside the carpark in Civic Crt at 1:30pm \nPlease bring weeding and pruning tools and appropriate clothing (closed-toe shoes\, long pants\, hats\, suncream). \nFor more information\, email: Hannah hannahspaddock@gmail.com
URL:https://mplandcare.org.au/event/end-of-year-dinner-wed-11-dec/
LOCATION:Balnarring Primary School\, Civic Court\, Balnarring\, VIC\, 3926\, Australia
CATEGORIES:Merricks-Coolart Catchment Landcare Group
END:VEVENT
BEGIN:VEVENT
DTSTART;TZID=Australia/Melbourne:20191211T080000
DTEND;TZID=Australia/Melbourne:20191211T170000
DTSTAMP:20260426T014526
CREATED:20190918T094548Z
LAST-MODIFIED:20190918T095819Z
UID:1742-1576051200-1576083600@mplandcare.org.au
SUMMARY:Working Bee - Balnarring PS Balbirooroo.
DESCRIPTION:Times TBC
URL:https://mplandcare.org.au/event/working-bee-balnarring-ps-balbirooroo-wed-11-dec/
LOCATION:Victoria
END:VEVENT
BEGIN:VEVENT
DTSTART;TZID=Australia/Melbourne:20191124T170000
DTEND;TZID=Australia/Melbourne:20191124T193000
DTSTAMP:20260426T014526
CREATED:20191111T011032Z
LAST-MODIFIED:20191111T013811Z
UID:1769-1574614800-1574623800@mplandcare.org.au
SUMMARY:Dunns Creek Landcare AGM
DESCRIPTION:The Dunns Creek Landcare Committee invites you to the Annual General Meeting (AGM) 2019. \nJeff and Jenny Smith of “Mont Rouge Estate” have generously provided their lovely vineyard Cellar Door and Tasting Room as the venue for our meeting on Sunday 24th November 2019\, 5pm for a 5:30pm start.Enjoy a glass of wine and tapas during the meeting\, and meet some of your neighbours in Mont Rouge’s cellar door. \nRSVP and enquiries dunnscreeklandcare@gmail.com  0499 926 214 \nALL WELCOME \n 
URL:https://mplandcare.org.au/event/dunns-creek-landcare-agm/
LOCATION:232 Red Hill Road\, Red Hill\, 232 Red Hill Road\, Red Hill\, Victoria\, Australia
CATEGORIES:Dunns Creek Landcare Group
ORGANIZER;CN="Dunns Creek Landcare":MAILTO:dunnscreeklandcare@gmail.com
END:VEVENT
BEGIN:VEVENT
DTSTART;TZID=Australia/Melbourne:20191124T100000
DTEND;TZID=Australia/Melbourne:20191124T110000
DTSTAMP:20260426T014526
CREATED:20191111T023208Z
LAST-MODIFIED:20191111T023214Z
UID:1778-1574589600-1574593200@mplandcare.org.au
SUMMARY:Walking tour - Buckleys Reserve
DESCRIPTION:Join your local Landcare Group for a stroll around some of the lovely reserves in our neighborhood. Learn more about the history of the area and the indigenous flora and fauna. \n \nWe suggest you wear sturdy shoes\, long pants and shirt and hat. Please bring your own water bottle and if you wish to stay and chat after the walk BYO cuppa (thermos)\, cake supplied.\nWalks will take around an hour\, they are not difficult but please consider the weather of the day. Friends are most welcome. \nLocation provided upon registration.
URL:https://mplandcare.org.au/event/walking-tour-buckleys-reserve/
LOCATION:Victoria
CATEGORIES:Merricks-Coolart Catchment Landcare Group
ORGANIZER;CN="Merricks-Coolart Catchment Landcare Group":MAILTO:mcclandcaregroup@gmail.com
END:VEVENT
BEGIN:VEVENT
DTSTART;TZID=Australia/Melbourne:20191124T093000
DTEND;TZID=Australia/Melbourne:20191124T113000
DTSTAMP:20260426T014526
CREATED:20191111T013703Z
LAST-MODIFIED:20191111T013715Z
UID:1775-1574587800-1574595000@mplandcare.org.au
SUMMARY:Sheepwash Creek Catchment Landcare working bee Arthurs Seat
DESCRIPTION:Hi everyone\, \nSheepwash Creek Catchment Landcare working bee \nWhen: Sunday 24th November. 9:30-11:30 \nMeet 490 Arthurs Seat Rd and walk down. \nRSVP essential to mdelacoeur@gmail.com
URL:https://mplandcare.org.au/event/sheepwash-creek-catchment-landcare-working-bee-arthurs-seat/
LOCATION:Victoria
CATEGORIES:Sheepwash Creek Catchment Landcare Group
ORGANIZER;CN="Sheepwash Creek Catchment Landcare":MAILTO:mdelacoeur@gmail.com
END:VEVENT
BEGIN:VEVENT
DTSTART;TZID=Australia/Melbourne:20191123T100000
DTEND;TZID=Australia/Melbourne:20191123T130000
DTSTAMP:20260426T014526
CREATED:20190918T094307Z
LAST-MODIFIED:20190918T095851Z
UID:1740-1574503200-1574514000@mplandcare.org.au
SUMMARY:Working Bee - Koala Reserve\, Somers.
DESCRIPTION:
URL:https://mplandcare.org.au/event/working-bee-koala-reserve-somers-sat-nov-23/
LOCATION:Victoria
CATEGORIES:Merricks-Coolart Catchment Landcare Group
END:VEVENT
BEGIN:VEVENT
DTSTART;TZID=Australia/Melbourne:20191019T130000
DTEND;TZID=Australia/Melbourne:20191019T170000
DTSTAMP:20260426T014526
CREATED:20190822T025033Z
LAST-MODIFIED:20190822T025047Z
UID:1718-1571490000-1571504400@mplandcare.org.au
SUMMARY:Grazing Management for Horse and Land Health
DESCRIPTION:Stephanie Orive\, of Holistic Equine Grazing specialises in grazing management for horses and beef cattle. \nIn this four-hour interactive workshop\, Stephanie will cover: \n-How to grow MORE\, horse safe grass \n-Preventing laminitis and other pasture-related metabolic diseases \n-Using animal management to control weeds (no herbicides!) \n-Reducing worm and parasite burden \n-Reducing feed and supplement costs \n-Reducing farm labour such as poo picking\, slashing\, weeding \n-Mud\, dust and erosion control \nPlease register using Evenbrite and pay $40 pp online  using your surname as a reference \nMP Equine Landcare Group BSB: 633 000 Account No. 151 35 6722
URL:https://mplandcare.org.au/event/grazing-management-for-horse-and-land-health/
LOCATION:80 Valley View Lane\, Main Ridge VIC\, 80 Valley View Lane\, Main Ridge\, VIC\, 3928\, Australia
CATEGORIES:Mornington Peninsula Equine Landcare Group
ORGANIZER;CN="Mornington Peninsula Equine Landcare":MAILTO:coish@bigpond.net.au
END:VEVENT
BEGIN:VEVENT
DTSTART;TZID=Australia/Melbourne:20191019T100000
DTEND;TZID=Australia/Melbourne:20191019T130000
DTSTAMP:20260426T014526
CREATED:20190918T085623Z
LAST-MODIFIED:20190918T095936Z
UID:1736-1571479200-1571490000@mplandcare.org.au
SUMMARY:Working bee Merricks North
DESCRIPTION:Helping Michele on her property\, planting out native grasses. \n10am start to 1 ish. \nMichele Sabto\nm. +61 (0)402 459009 \n\n+61 (0)3 5989 7391\ne.msabto@optusnet.com.au\n\n7 Kentucky Rd\nMerricks North \n 
URL:https://mplandcare.org.au/event/working-bee-merricks-north-october-19/
LOCATION:Victoria
CATEGORIES:Merricks-Coolart Catchment Landcare Group
END:VEVENT
BEGIN:VEVENT
DTSTART;TZID=Australia/Melbourne:20190923T100000
DTEND;TZID=Australia/Melbourne:20190923T120000
DTSTAMP:20260426T014526
CREATED:20190918T095515Z
LAST-MODIFIED:20190918T095611Z
UID:1744-1569232800-1569240000@mplandcare.org.au
SUMMARY:Tootgarook wetlands walk
DESCRIPTION:Boneo Park\, \n312 Boneo Rd\, Boneo.
URL:https://mplandcare.org.au/event/tootgarook-wetlands-walk-mon-23-sep/
LOCATION:Victoria
CATEGORIES:Merricks-Coolart Catchment Landcare Group
END:VEVENT
BEGIN:VEVENT
DTSTART;TZID=Australia/Melbourne:20190921T100000
DTEND;TZID=Australia/Melbourne:20190921T130000
DTSTAMP:20260426T014526
CREATED:20190918T010316Z
LAST-MODIFIED:20190918T010316Z
UID:1734-1569060000-1569070800@mplandcare.org.au
SUMMARY:Indigenous nursery workshop/tour\, Bittern
DESCRIPTION:Peninsula Bushworks Indigenous Nursery \n16 Hunts Road Bittern \nA great opportunity to learn about seed collection\, propagation and choosing the right plants for the local areas. \n10am cuppa\, 10.30 start. \nFinish with lunch.
URL:https://mplandcare.org.au/event/indigenous-nursery-workshop-tour-bittern/
LOCATION:Victoria
CATEGORIES:Merricks-Coolart Catchment Landcare Group
END:VEVENT
BEGIN:VEVENT
DTSTART;TZID=Australia/Melbourne:20190908T103000
DTEND;TZID=Australia/Melbourne:20190908T143000
DTSTAMP:20260426T014526
CREATED:20190822T030106Z
LAST-MODIFIED:20190822T030106Z
UID:1723-1567938600-1567953000@mplandcare.org.au
SUMMARY:Composting Workshop
DESCRIPTION:Come and join Balcombe Moorooduc Landcare members to exchange learning with Soil Health specialist and seasoned composter Gerhard Grasser. \nLearn about the new NPK of soil\, composting and compost tea brewing. Using compost microbes\, you can build soil carbon and soil health for improved farm and home garden outcomes. Understand and undertake a variety of composting techniques for rejuvenating your soil for improved productivity\, quality and health of plants and animals. \n$30 per person. Please bring cash or cheque on the day.
URL:https://mplandcare.org.au/event/composting-workshop/
LOCATION:9 Century Drive\, Mt Martha VIC Australia\, 9 Century Drive\, Mt Martha\, VIC\, Australia
CATEGORIES:Balcombe and Moorooduc Landcare Group
END:VEVENT
BEGIN:VEVENT
DTSTART;TZID=Australia/Melbourne:20190811T133000
DTEND;TZID=Australia/Melbourne:20190811T160000
DTSTAMP:20260426T014526
CREATED:20190723T112805Z
LAST-MODIFIED:20190726T034643Z
UID:1570-1565530200-1565539200@mplandcare.org.au
SUMMARY:Cool burn & fire biodiversity talk
DESCRIPTION:Balcombe & Moorooduc Landcare Group invites you to a Cool burn working bee & fire & biodiversity talk.\nCome and join our Landcare members and hear from a CFA speaker about fire and its benefits for biodiversity. Learn about how to conduct a cool burn and the reasoning behind this ancient land management tool at a practical working bee in Moorooduc.\nCome for the talk\, working bee and stay for a cuppa afterwards.\nJoin B&ML Group members at or Treasurer Lee’s rural Moorooduc property and learn how cool burning promotes growth of indigenous species and controls invasive weeds with practical demonstrations and group participation. Listen to an experienced CFA member give a talk about how important fire can be to biodiversity. Wear comfy clothes and closed toe sturdy shoes and roll up your sleeves and meet your fellow Landcare neighbours.We invite you to stay after the working bee for light refreshments.\nThis event is free to members of Balcombe & Moorooduc Landcare and interested locals.\nRSVP to this FB page or text me on 0429 806 888\n\nSee Less
URL:https://mplandcare.org.au/event/cool-burn-fire-biodiversity-talk/
LOCATION:5 Firth Rd\, Morooduc VIC\, 5 Firth Rd\, Moorooduc\, VIC\, 3933
CATEGORIES:Balcombe and Moorooduc Landcare Group
END:VEVENT
BEGIN:VEVENT
DTSTART;TZID=Australia/Melbourne:20190804T093000
DTEND;TZID=Australia/Melbourne:20190804T123000
DTSTAMP:20260426T014526
CREATED:20190731T130409Z
LAST-MODIFIED:20190731T130409Z
UID:1624-1564911000-1564921800@mplandcare.org.au
SUMMARY:Help restore Koala habitat in Main Ridge
DESCRIPTION:HELP WANTED!\nWORKING BEE TO RESTORE KOALA HABITAT along MACPHERSONS LANE MAIN RIDGE\n9.30 –12.30 SUNDAY 4 AUGUST \nEnquiries:\nMichelle Stacey on 0409 031 108 or email: admin@wildman.net.au  Main Creek Catchment Landcare Group \nALL WELCOME \nREMOVING TREE GUARDS\, PLANTING & RUBBISH REMOVAL.\nWear strong boots\, gloves\, weather appropriate clothing.\nPark on cnr Baldrys Road\n& Macphersons Lane\,\nMain Ridge.\nMelways Map 171\, F1
URL:https://mplandcare.org.au/event/help-restore-koala-habitat-in-main-ridge/
LOCATION:Macphersons Lane\, Main Ridge\, Cnr Baldrys & Macphersons Lane\, Main Ridge\, VIC\, 3928\, Australia
END:VEVENT
BEGIN:VEVENT
DTSTART;TZID=Australia/Melbourne:20190802T190000
DTEND;TZID=Australia/Melbourne:20190802T203000
DTSTAMP:20260426T014526
CREATED:20190801T004153Z
LAST-MODIFIED:20190801T004153Z
UID:1637-1564772400-1564777800@mplandcare.org.au
SUMMARY:Reptiles of Victoria Presentation
DESCRIPTION:Mornington Peninsula Shire in conjunction with Friends of Chinamans Creek invite you to: \nAn illustrated presentation by Peter Robertson. \nWhere: Mornington Peninsula Shire Office– 90 Besgrove Street\, Rosebud\nWhen: Friday 2nd August 2019\nTime: 7:00pm\nCost: Gold coin\nRegister: https://www.eventbrite.com.au/e/an-illustrated-presentation-by-peter-robertson-tickets63542546467\nAll profits raised will go towards the protection of the endangered Swamp Skink and conservation works\nat the Boneo Primary School Wetlands Education Centre.\nNorman Mckinlay\n03 59885616\nswampskink@gmail.com\nDiscounted copies of Peters “Reptiles of Victoria” will be available to purchase \nPeter Robertson presentation_Fullpage
URL:https://mplandcare.org.au/event/reptiles-of-victoria-presentation/
LOCATION:90 besgrove Street\, Rosebud\, MP Shire offices\, 90 Besgrove Street\, Rosebud\, VIC\, 3939\, Australia
END:VEVENT
BEGIN:VEVENT
DTSTART;TZID=Australia/Melbourne:20190728T093000
DTEND;TZID=Australia/Melbourne:20190728T133000
DTSTAMP:20260426T014526
CREATED:20181008T014300Z
LAST-MODIFIED:20190708T235739Z
UID:1501-1564306200-1564320600@mplandcare.org.au
SUMMARY:National Tree Day - July 28\, 2019
DESCRIPTION:July 28\, 2019  National Tree Day – Dunns Creek Biolink \nat “Sussex Farm” 2 Gibb Rd\, Red Hill (off Dunns Creek Rd) 9.00am for a 9.30am start – bbq lunch to follow. \nFlyer: https://www.dropbox.com/s/xphaewjuioom0in/National%20Tree%20Day%20Flyer%2028%20July%202019.pdf?dl=0 \nPlease join in ! \n  \n  \n 
URL:https://mplandcare.org.au/event/national-tree-day-july-28-2019/
LOCATION:2 Gibb Rd\, Red Hill\, 2 Gibb Rd\, Red Hill\, 3937
END:VEVENT
END:VCALENDAR