BEGIN:VCALENDAR
VERSION:2.0
PRODID:-//MP Landcare - ECPv6.15.17.1//NONSGML v1.0//EN
CALSCALE:GREGORIAN
METHOD:PUBLISH
X-WR-CALNAME:MP Landcare
X-ORIGINAL-URL:https://mplandcare.org.au
X-WR-CALDESC:Events for MP Landcare
REFRESH-INTERVAL;VALUE=DURATION:PT1H
X-Robots-Tag:noindex
X-PUBLISHED-TTL:PT1H
BEGIN:VTIMEZONE
TZID:Australia/Melbourne
BEGIN:STANDARD
TZOFFSETFROM:+1100
TZOFFSETTO:+1000
TZNAME:AEST
DTSTART:20250405T160000
END:STANDARD
BEGIN:DAYLIGHT
TZOFFSETFROM:+1000
TZOFFSETTO:+1100
TZNAME:AEDT
DTSTART:20251004T160000
END:DAYLIGHT
BEGIN:STANDARD
TZOFFSETFROM:+1100
TZOFFSETTO:+1000
TZNAME:AEST
DTSTART:20260404T160000
END:STANDARD
BEGIN:DAYLIGHT
TZOFFSETFROM:+1000
TZOFFSETTO:+1100
TZNAME:AEDT
DTSTART:20261003T160000
END:DAYLIGHT
BEGIN:STANDARD
TZOFFSETFROM:+1100
TZOFFSETTO:+1000
TZNAME:AEST
DTSTART:20270403T160000
END:STANDARD
BEGIN:DAYLIGHT
TZOFFSETFROM:+1000
TZOFFSETTO:+1100
TZNAME:AEDT
DTSTART:20271002T160000
END:DAYLIGHT
BEGIN:STANDARD
TZOFFSETFROM:+1100
TZOFFSETTO:+1000
TZNAME:AEST
DTSTART:20280401T160000
END:STANDARD
BEGIN:DAYLIGHT
TZOFFSETFROM:+1000
TZOFFSETTO:+1100
TZNAME:AEDT
DTSTART:20280930T160000
END:DAYLIGHT
END:VTIMEZONE
BEGIN:VEVENT
DTSTART;TZID=Australia/Melbourne:20260523T090000
DTEND;TZID=Australia/Melbourne:20260523T123000
DTSTAMP:20260422T103438
CREATED:20260415T000424Z
LAST-MODIFIED:20260415T000424Z
UID:5543-1779526800-1779539400@mplandcare.org.au
SUMMARY:Koala Food Tree Planting Day - Rosebud
DESCRIPTION:Help us improve koala habitat on the beautiful Bay Views Golf Course in Rosebud \n\n\n\n\nSpend the morning with us planting hundreds of koala food trees and other native trees and shrubs to expand koala habitat on the Bay Views Golf Course\, Rosebud. \nHabitat loss is the leading threat to koalas and other wildlife—so let’s take action together! \nThis is a fantastic opportunity to learn about our local environment and wildlife\, including koalas\, while making a real difference in restoring their habitat. \nIMPORTANT INFORMATION:\nRegistrations essential: Koala Food Tree Planting Day – Rosebud Tickets\, Saturday 23 May  •  09 – 12:30 | Eventbrite \n☕ We’ll take a break for morning tea\, with coffee\, tea\, Milo\, and biscuits provided.\n👖 Please wear long pants and closed-toe shoes (preferably waterproof) as we’ll be walking through bushland and grassy areas.\n🧤 Bring your own hat\, gardening gloves\, water\, and snacks. We’ll supply all necessary tools. \n📍 The planting will take place on the Bay Views Golf Course\, Elizabeth Drive\, Rosebud. Look for our big teardrop flag near the entrance.\n🚗 Drive in slowly and follow parking instructions upon arrival. \nWe can’t wait to see you there! 🌱🐨
URL:https://mplandcare.org.au/event/koala-food-tree-planting-day-rosebud/
LOCATION:Bay Views Golf Course\, Elizabeth Drive\, Rosebud
CATEGORIES:Mornington Peninsula Koala Conservation
ORGANIZER;CN="Mornington Peninsula Koala Conservation Group":MAILTO:mpkoalatreeplanting@outlook.com
END:VEVENT
BEGIN:VEVENT
DTSTART;TZID=Australia/Melbourne:20260524T090000
DTEND;TZID=Australia/Melbourne:20260524T120000
DTSTAMP:20260422T103438
CREATED:20260416T033424Z
LAST-MODIFIED:20260416T033424Z
UID:5570-1779613200-1779624000@mplandcare.org.au
SUMMARY:Main Ridge Flora Reserve Working Bee & Morning Tea
DESCRIPTION:
URL:https://mplandcare.org.au/event/main-ridge-flora-reserve-working-bee-morning-tea-2/
LOCATION:Main Ridge Flora Reserve
CATEGORIES:Manton and Stony Creeks Landcare Group
ORGANIZER;CN="Manton and Stony Creeks Landcare":MAILTO:david.maddocks@bigpond.com
END:VEVENT
BEGIN:VEVENT
DTSTART;TZID=Australia/Melbourne:20260530T090000
DTEND;TZID=Australia/Melbourne:20260530T123000
DTSTAMP:20260422T103438
CREATED:20260415T000910Z
LAST-MODIFIED:20260415T000910Z
UID:5546-1780131600-1780144200@mplandcare.org.au
SUMMARY:Koala Food Tree Planting Day - Bittern
DESCRIPTION:Help us improve koala habitat in the beautiful Mornington Peninsula town of Bittern \n\n\n\n\nSpend the morning with us planting hundreds of koala food trees and other native trees and shrubs to expand koala habitat in the stunning town of Bittern on the Mornington Peninsula. \nHabitat loss is the leading threat to koalas and other wildlife—so let’s take action together! \nThis is a fantastic opportunity to learn about our local environment and wildlife\, including koalas\, while making a real difference in restoring their habitat. \nIMPORTANT INFORMATION:\nRegistrations Essential: Koala Food Tree Planting Day – Bittern Tickets\, Saturday 30 May  •  09 – 12:30 | Eventbrite \n☕ We’ll take a break for morning tea\, with coffee\, tea\, Milo\, and biscuits provided.\n👖 Please wear long pants and closed-toe shoes (preferably waterproof) as we’ll be walking through bushland and grassy areas.\n🧤 Bring your own hat\, gardening gloves\, water\, and snacks. We’ll supply all necessary tools. \n📍 The planting will take place on private property at 2 Hendersons Road\, Bittern. Look for our big teardrop flag near the entrance.\n🚗 Drive in slowly and follow parking instructions upon arrival. \nWe can’t wait to see you there! 🌱🐨 \n\n\n  \n  \n  \n  \n 
URL:https://mplandcare.org.au/event/koala-food-tree-planting-day-bittern/
LOCATION:2 Hendersons Road Bittern\, 2 Hendersons Road\, Bittern\, VIC
CATEGORIES:Mornington Peninsula Koala Conservation
ORGANIZER;CN="Mornington Peninsula Koala Conservation Group":MAILTO:mpkoalatreeplanting@outlook.com
END:VEVENT
BEGIN:VEVENT
DTSTART;TZID=Australia/Melbourne:20260531T090000
DTEND;TZID=Australia/Melbourne:20260531T123000
DTSTAMP:20260422T103438
CREATED:20260415T001240Z
LAST-MODIFIED:20260415T001240Z
UID:5549-1780218000-1780230600@mplandcare.org.au
SUMMARY:Koala Food Tree Planting Day - Bittern
DESCRIPTION:Help us improve koala habitat in the beautiful Mornington Peninsula town of Bittern \n\n\n\n\nSpend the morning with us planting hundreds of koala food trees and other native trees and shrubs to expand koala habitat in the stunning town of Bittern on the Mornington Peninsula. \nHabitat loss is the leading threat to koalas and other wildlife—so let’s take action together! \nThis is a fantastic opportunity to learn about our local environment and wildlife\, including koalas\, while making a real difference in restoring their habitat. \nIMPORTANT INFORMATION:\nRegistration essential: Koala Food Tree Planting Day – Bittern Tickets\, Sunday 31 May  •  09 – 12:30 | Eventbrite \n☕ We’ll take a break for morning tea\, with coffee\, tea\, Milo\, and biscuits provided.\n👖 Please wear long pants and closed-toe shoes (preferably waterproof) as we’ll be walking through bushland and grassy areas.\n🧤 Bring your own hat\, gardening gloves\, water\, and snacks. We’ll supply all necessary tools. \n📍 The planting will take place on private property at 4 Hendersons Road\, Bittern. Look for our big teardrop flag near the entrance.\n🚗 Drive in slowly and follow parking instructions upon arrival. \nWe can’t wait to see you there! 🌱🐨
URL:https://mplandcare.org.au/event/koala-food-tree-planting-day-bittern-2/
LOCATION:4 Hendersons Road Bittern\, 4 Hendersons Road\, Bittern\, Vic
CATEGORIES:Mornington Peninsula Koala Conservation
ORGANIZER;CN="Mornington Peninsula Koala Conservation Group":MAILTO:mpkoalatreeplanting@outlook.com
END:VEVENT
BEGIN:VEVENT
DTSTART;TZID=Australia/Melbourne:20260614T090000
DTEND;TZID=Australia/Melbourne:20260614T123000
DTSTAMP:20260422T103438
CREATED:20260415T001610Z
LAST-MODIFIED:20260415T003148Z
UID:5552-1781427600-1781440200@mplandcare.org.au
SUMMARY:Koala Food Tree Planting Day - Main Ridge
DESCRIPTION:Help us improve koala habitat in the beautiful Mornington Peninsula town of Main Ridge \n\n\n\n\nProudly supported by Tall Trees\n\nSpend the morning with us planting hundreds of koala food trees and other native trees and shrubs to expand koala habitat in the stunning town of Main Ridge on the Mornington Peninsula. \nHabitat loss is the leading threat to koalas and other wildlife—so let’s take action together! \nThis is a fantastic opportunity to learn about our local environment and wildlife\, including koalas\, while making a real difference in restoring their habitat. \nIMPORTANT INFORMATION:\nRegistrations Essential: Koala Food Tree Planting Day – Main Ridge Tickets\, Sunday 14 June  •  09 – 12:30 | Eventbrite \n☕ We’ll take a break for morning tea\, with coffee\, tea\, Milo\, and biscuits provided.\n👖 Please wear long pants and closed-toe shoes (preferably waterproof) as we’ll be walking through bushland and grassy areas.\n🧤 Bring your own hat\, gardening gloves\, water\, and snacks. We’ll supply all necessary tools. \n📍 The planting will take place on private property at 580 Main Creek Rd\, Main Ridge. Look for our big teardrop flag near the entrance.\n🚗 Drive in slowly and follow parking instructions upon arrival. \nWe can’t wait to see you there! 🌱🐨
URL:https://mplandcare.org.au/event/koala-food-tree-planting-day-main-ridge/
LOCATION:580 Main Creek Road\, 580 Main Creek Road\, Main Ridge\, Vic
CATEGORIES:Mornington Peninsula Koala Conservation
ORGANIZER;CN="Mornington Peninsula Koala Conservation Group":MAILTO:mpkoalatreeplanting@outlook.com
END:VEVENT
BEGIN:VEVENT
DTSTART;TZID=Australia/Melbourne:20260628T090000
DTEND;TZID=Australia/Melbourne:20260628T120000
DTSTAMP:20260422T103438
CREATED:20260416T033602Z
LAST-MODIFIED:20260416T033602Z
UID:5572-1782637200-1782648000@mplandcare.org.au
SUMMARY:Main Ridge Flora Reserve Working Bee & Morning Tea
DESCRIPTION:
URL:https://mplandcare.org.au/event/main-ridge-flora-reserve-working-bee-morning-tea-3/
LOCATION:Main Ridge Flora Reserve
CATEGORIES:Manton and Stony Creeks Landcare Group
ORGANIZER;CN="Manton and Stony Creeks Landcare":MAILTO:david.maddocks@bigpond.com
END:VEVENT
BEGIN:VEVENT
DTSTART;TZID=Australia/Melbourne:20260912T093000
DTEND;TZID=Australia/Melbourne:20260912T123000
DTSTAMP:20260422T103438
CREATED:20260129T053006Z
LAST-MODIFIED:20260129T053150Z
UID:5330-1789205400-1789216200@mplandcare.org.au
SUMMARY:Bush Tucker Walk with Living Culture
DESCRIPTION:Bookings Essential – Tickets Limited\n \nIf you cannot make it to this event\, simply cancel your booking on Eventbrite so that we can reallocate your spot to those on the wait list. \nPlease wear hiking boots\, sunscreen\, hat\, jacket\, water bottle and snacks.
URL:https://mplandcare.org.au/event/greens-bush-circuit-bush-t/
LOCATION:Baldrys Crossing\, Baldrys Road\, Main Ridge\, Victoria\, 3928\, Australia
ORGANIZER;CN="Mornington Peninsula Landcare Network":MAILTO:facilitator@mplandcare.org.au
END:VEVENT
BEGIN:VEVENT
DTSTART;TZID=Australia/Melbourne:20261009T093000
DTEND;TZID=Australia/Melbourne:20261009T123000
DTSTAMP:20260422T103438
CREATED:20260129T025325Z
LAST-MODIFIED:20260212T002150Z
UID:5325-1791538200-1791549000@mplandcare.org.au
SUMMARY:Women's Weaving Circle with Living Culture
DESCRIPTION:Bookings Essential – Tickets Limited – Women Only Event\n \nIf you cannot make it to this event\, simply cancel your booking on Eventbrite so that we can reallocate your spot to those on the wait list. \n \n  \n 
URL:https://mplandcare.org.au/event/womens-weaving-circle-with-living-culture/
LOCATION:Warrak Farm\, 126 Hyslops Road\, Boneo\, VIC\, 3939\, Australia
END:VEVENT
BEGIN:VEVENT
DTSTART;TZID=Australia/Melbourne:20261025T090000
DTEND;TZID=Australia/Melbourne:20261025T120000
DTSTAMP:20260422T103438
CREATED:20260416T033755Z
LAST-MODIFIED:20260416T033755Z
UID:5574-1792918800-1792929600@mplandcare.org.au
SUMMARY:Main Ridge Flora Reserve Working Bee & Morning Tea
DESCRIPTION:
URL:https://mplandcare.org.au/event/main-ridge-flora-reserve-working-bee-morning-tea-4/
LOCATION:Main Ridge Flora Reserve
CATEGORIES:Manton and Stony Creeks Landcare Group
ORGANIZER;CN="Manton and Stony Creeks Landcare":MAILTO:david.maddocks@bigpond.com
END:VEVENT
BEGIN:VEVENT
DTSTART;TZID=Australia/Melbourne:20261122T090000
DTEND;TZID=Australia/Melbourne:20261122T120000
DTSTAMP:20260422T103438
CREATED:20260416T033934Z
LAST-MODIFIED:20260416T033934Z
UID:5576-1795338000-1795348800@mplandcare.org.au
SUMMARY:Main Ridge Flora Reserve Working Bee & Morning Tea
DESCRIPTION:
URL:https://mplandcare.org.au/event/main-ridge-flora-reserve-working-bee-morning-tea-5/
LOCATION:Main Ridge Flora Reserve
CATEGORIES:Manton and Stony Creeks Landcare Group
ORGANIZER;CN="Manton and Stony Creeks Landcare":MAILTO:david.maddocks@bigpond.com
END:VEVENT
BEGIN:VEVENT
DTSTART;TZID=Australia/Melbourne:20270124T090000
DTEND;TZID=Australia/Melbourne:20270124T120000
DTSTAMP:20260422T103438
CREATED:20260416T034123Z
LAST-MODIFIED:20260416T034123Z
UID:5578-1800781200-1800792000@mplandcare.org.au
SUMMARY:Main Ridge Flora Reserve Working Bee & Morning Tea
DESCRIPTION:
URL:https://mplandcare.org.au/event/main-ridge-flora-reserve-working-bee-morning-tea-6/
LOCATION:Main Ridge Flora Reserve
CATEGORIES:Manton and Stony Creeks Landcare Group
ORGANIZER;CN="Manton and Stony Creeks Landcare":MAILTO:david.maddocks@bigpond.com
END:VEVENT
BEGIN:VEVENT
DTSTART;TZID=Australia/Melbourne:20270228T090000
DTEND;TZID=Australia/Melbourne:20270228T120000
DTSTAMP:20260422T103438
CREATED:20260416T034319Z
LAST-MODIFIED:20260416T034319Z
UID:5580-1803805200-1803816000@mplandcare.org.au
SUMMARY:Main Ridge Flora Reserve Working Bee & Morning Tea
DESCRIPTION:
URL:https://mplandcare.org.au/event/main-ridge-flora-reserve-working-bee-morning-tea-7/
LOCATION:Main Ridge Flora Reserve
CATEGORIES:Manton and Stony Creeks Landcare Group
ORGANIZER;CN="Manton and Stony Creeks Landcare":MAILTO:david.maddocks@bigpond.com
END:VEVENT
END:VCALENDAR