BEGIN:VCALENDAR
VERSION:2.0
PRODID:-//MP Landcare - ECPv6.15.17.1//NONSGML v1.0//EN
CALSCALE:GREGORIAN
METHOD:PUBLISH
X-WR-CALNAME:MP Landcare
X-ORIGINAL-URL:https://mplandcare.org.au
X-WR-CALDESC:Events for MP Landcare
REFRESH-INTERVAL;VALUE=DURATION:PT1H
X-Robots-Tag:noindex
X-PUBLISHED-TTL:PT1H
BEGIN:VTIMEZONE
TZID:Australia/Melbourne
BEGIN:STANDARD
TZOFFSETFROM:+1100
TZOFFSETTO:+1000
TZNAME:AEST
DTSTART:20220402T160000
END:STANDARD
BEGIN:DAYLIGHT
TZOFFSETFROM:+1000
TZOFFSETTO:+1100
TZNAME:AEDT
DTSTART:20221001T160000
END:DAYLIGHT
BEGIN:STANDARD
TZOFFSETFROM:+1100
TZOFFSETTO:+1000
TZNAME:AEST
DTSTART:20230401T160000
END:STANDARD
BEGIN:DAYLIGHT
TZOFFSETFROM:+1000
TZOFFSETTO:+1100
TZNAME:AEDT
DTSTART:20230930T160000
END:DAYLIGHT
BEGIN:STANDARD
TZOFFSETFROM:+1100
TZOFFSETTO:+1000
TZNAME:AEST
DTSTART:20240406T160000
END:STANDARD
BEGIN:DAYLIGHT
TZOFFSETFROM:+1000
TZOFFSETTO:+1100
TZNAME:AEDT
DTSTART:20241005T160000
END:DAYLIGHT
END:VTIMEZONE
BEGIN:VEVENT
DTSTART;TZID=Australia/Melbourne:20230331T193000
DTEND;TZID=Australia/Melbourne:20230402T160000
DTSTAMP:20260420T024509
CREATED:20230201T014544Z
LAST-MODIFIED:20240621T044836Z
UID:3488-1680291000-1680451200@mplandcare.org.au
SUMMARY:Nature Connection Camp
DESCRIPTION:
URL:https://mplandcare.org.au/event/nature-connection-camp/
LOCATION:Illuka Retreat\, 80-90 Besgrove Street\, Shoreham\, Victoria\, 3916\, Australia
CATEGORIES:Mornington Peninsula Intrepid Landcare
ORGANIZER;CN="Mornington Peninsula Intrepid Landcare":MAILTO:mpilandcare@gmail.com
END:VEVENT
END:VCALENDAR