BEGIN:VCALENDAR
VERSION:2.0
PRODID:-//MP Landcare - ECPv6.15.17.1//NONSGML v1.0//EN
CALSCALE:GREGORIAN
METHOD:PUBLISH
X-WR-CALNAME:MP Landcare
X-ORIGINAL-URL:https://mplandcare.org.au
X-WR-CALDESC:Events for MP Landcare
REFRESH-INTERVAL;VALUE=DURATION:PT1H
X-Robots-Tag:noindex
X-PUBLISHED-TTL:PT1H
BEGIN:VTIMEZONE
TZID:Australia/Melbourne
BEGIN:STANDARD
TZOFFSETFROM:+1100
TZOFFSETTO:+1000
TZNAME:AEST
DTSTART:20220402T160000
END:STANDARD
BEGIN:DAYLIGHT
TZOFFSETFROM:+1000
TZOFFSETTO:+1100
TZNAME:AEDT
DTSTART:20221001T160000
END:DAYLIGHT
BEGIN:STANDARD
TZOFFSETFROM:+1100
TZOFFSETTO:+1000
TZNAME:AEST
DTSTART:20230401T160000
END:STANDARD
BEGIN:DAYLIGHT
TZOFFSETFROM:+1000
TZOFFSETTO:+1100
TZNAME:AEDT
DTSTART:20230930T160000
END:DAYLIGHT
BEGIN:STANDARD
TZOFFSETFROM:+1100
TZOFFSETTO:+1000
TZNAME:AEST
DTSTART:20240406T160000
END:STANDARD
BEGIN:DAYLIGHT
TZOFFSETFROM:+1000
TZOFFSETTO:+1100
TZNAME:AEDT
DTSTART:20241005T160000
END:DAYLIGHT
END:VTIMEZONE
BEGIN:VEVENT
DTSTART;TZID=Australia/Melbourne:20230617T100000
DTEND;TZID=Australia/Melbourne:20230617T140000
DTSTAMP:20260419T222909
CREATED:20230509T032700Z
LAST-MODIFIED:20230607T002037Z
UID:3568-1686996000-1687010400@mplandcare.org.au
SUMMARY:Mornington Peninsula Intrepid - Manton & Stony Creeks Landcare Planting Day at the Briars
DESCRIPTION:Come along from 10am onwards to help the Mornington Peninsula Intrepid Landcare group expand the conservation zone at the Briars by planting 2\,000 indigenous trees. No experience necessary\, training will be provided by Manton and Stony Creeks Landcare on the day. Come for as little or as long as you want. \nThis is a free event $$$ Register via Eventbrite at https://www.eventbrite.com.au/e/planting-at-the-briars-tickets-633084381427 \nBYO gardening gloves and water bottle and snacks. Lunch provided. \nPlease wear weather appropriate clothing and sturdy closed toe footwear. \n 
URL:https://mplandcare.org.au/event/mornington-peninsula-intrepid-manton-stony-creeks-landcare-planting-day-at-the-briars/
LOCATION:The Briars\, 450 Nepean Highway\, Mt Martha\, Victoria\, 3934\, Australia
CATEGORIES:Manton and Stony Creeks Landcare Group,Mornington Peninsula Intrepid Landcare
ORGANIZER;CN="Mornington Peninsula Intrepid Landcare":MAILTO:mpilandcare@gmail.com
END:VEVENT
END:VCALENDAR