BEGIN:VCALENDAR
VERSION:2.0
PRODID:-//MP Landcare - ECPv6.15.17.1//NONSGML v1.0//EN
CALSCALE:GREGORIAN
METHOD:PUBLISH
X-WR-CALNAME:MP Landcare
X-ORIGINAL-URL:https://mplandcare.org.au
X-WR-CALDESC:Events for MP Landcare
REFRESH-INTERVAL;VALUE=DURATION:PT1H
X-Robots-Tag:noindex
X-PUBLISHED-TTL:PT1H
BEGIN:VTIMEZONE
TZID:Australia/Melbourne
BEGIN:STANDARD
TZOFFSETFROM:+1100
TZOFFSETTO:+1000
TZNAME:AEST
DTSTART:20210403T160000
END:STANDARD
BEGIN:DAYLIGHT
TZOFFSETFROM:+1000
TZOFFSETTO:+1100
TZNAME:AEDT
DTSTART:20211002T160000
END:DAYLIGHT
BEGIN:STANDARD
TZOFFSETFROM:+1100
TZOFFSETTO:+1000
TZNAME:AEST
DTSTART:20220402T160000
END:STANDARD
BEGIN:DAYLIGHT
TZOFFSETFROM:+1000
TZOFFSETTO:+1100
TZNAME:AEDT
DTSTART:20221001T160000
END:DAYLIGHT
BEGIN:STANDARD
TZOFFSETFROM:+1100
TZOFFSETTO:+1000
TZNAME:AEST
DTSTART:20230401T160000
END:STANDARD
BEGIN:DAYLIGHT
TZOFFSETFROM:+1000
TZOFFSETTO:+1100
TZNAME:AEDT
DTSTART:20230930T160000
END:DAYLIGHT
END:VTIMEZONE
BEGIN:VEVENT
DTSTART;TZID=Australia/Melbourne:20220505T184500
DTEND;TZID=Australia/Melbourne:20220505T203000
DTSTAMP:20260420T172352
CREATED:20220405T233925Z
LAST-MODIFIED:20220405T234004Z
UID:3222-1651776300-1651782600@mplandcare.org.au
SUMMARY:Coolart Conversations
DESCRIPTION:Coolart Conversations (Event 1) \nCome hear Dr Travis Dutka who will speak about the recently discovered globally significant Bryozoan reefs of Western Port. \nThe intent behind these series of events is to create a place where locals can come together to learn about and celebrate the unique and special nature of the place they call home – Western Port. We are premiering on the 5th of May with Dr Tavis Dutka a Senior Lecture from La Trobe University who will speaking about the recently discovered globally unique and significant Bryozoan reefs of Western Port. \nTickets are free\, with complimentary tea and biscuits provided. Bookings essential. Event information and to register go to: https://www.eventbrite.com.au/e/coolart-conversations-1-premier-event-tickets-306104716447 \nUpcoming Conversations: \nMay 5th – Dr Travis Dutka talking about the recently discovered globally significant Bryozoan reefs of Western Port. \nJune TBC – Special movie event \nJuly 14 – Dr Liz Znidersic talking about specialised ground dwelling bird surveys on French Island through ecoacoustics- acoustic sensing for biodiversity monitoring \nSeptember 1 – Dr Raylene Cooke and/or Deakin Powerful owl team on Powerful owl ecology\, Morn Pen tracking and rodent toxin work \nNovember 3 – Dr Michael Amor talking on the amazing local and threatened fungus Hypocreopsis amplectens discovered at French Island. \nEnquiries: Please don’t hesitate to get in contact with Amy from Mornington Peninsula Intrepid Landcare (0481 950 442) or Casey Lee from Parks Victoria (0473 555 183) with further questions. \nEvent 1 Flyer – May 5th \n 
URL:https://mplandcare.org.au/event/coolart-conversations/
LOCATION:Coolart Wetland & Homestead\, 40 Lord Somers Road\, Somers\, VIC\, 3927\, Australia
CATEGORIES:Mornington Peninsula Intrepid Landcare
ORGANIZER;CN="Mornington Peninsula Intrepid Landcare":MAILTO:mpilandcare@gmail.com
END:VEVENT
END:VCALENDAR