BEGIN:VCALENDAR
VERSION:2.0
PRODID:-//MP Landcare - ECPv6.15.17.1//NONSGML v1.0//EN
CALSCALE:GREGORIAN
METHOD:PUBLISH
X-WR-CALNAME:MP Landcare
X-ORIGINAL-URL:https://mplandcare.org.au
X-WR-CALDESC:Events for MP Landcare
REFRESH-INTERVAL;VALUE=DURATION:PT1H
X-Robots-Tag:noindex
X-PUBLISHED-TTL:PT1H
BEGIN:VTIMEZONE
TZID:Australia/Melbourne
BEGIN:STANDARD
TZOFFSETFROM:+1100
TZOFFSETTO:+1000
TZNAME:AEST
DTSTART:20250405T160000
END:STANDARD
BEGIN:DAYLIGHT
TZOFFSETFROM:+1000
TZOFFSETTO:+1100
TZNAME:AEDT
DTSTART:20251004T160000
END:DAYLIGHT
BEGIN:STANDARD
TZOFFSETFROM:+1100
TZOFFSETTO:+1000
TZNAME:AEST
DTSTART:20260404T160000
END:STANDARD
BEGIN:DAYLIGHT
TZOFFSETFROM:+1000
TZOFFSETTO:+1100
TZNAME:AEDT
DTSTART:20261003T160000
END:DAYLIGHT
BEGIN:STANDARD
TZOFFSETFROM:+1100
TZOFFSETTO:+1000
TZNAME:AEST
DTSTART:20270403T160000
END:STANDARD
BEGIN:DAYLIGHT
TZOFFSETFROM:+1000
TZOFFSETTO:+1100
TZNAME:AEDT
DTSTART:20271002T160000
END:DAYLIGHT
END:VTIMEZONE
BEGIN:VEVENT
DTSTART;TZID=Australia/Melbourne:20260503T090000
DTEND;TZID=Australia/Melbourne:20260503T123000
DTSTAMP:20260421T185930
CREATED:20260414T235552Z
LAST-MODIFIED:20260414T235552Z
UID:5537-1777798800-1777811400@mplandcare.org.au
SUMMARY:WILD KOALA DAY - Koala Food Tree Planting Day - Balnarring
DESCRIPTION:Help us improve koala habitat in the beautiful Mornington Peninsula town of Balnarring \n\n\n\nJoin us in celebrating WILD KOALA DAY as we kick off our 2026 tree planting season! \nSpend the morning with us planting hundreds of koala food trees and other native trees and shrubs to expand koala habitat in the stunning coastal town of Balnarring on the Mornington Peninsula. \nHabitat loss is the leading threat to koalas and other wildlife—so let’s take action together! \nThis is a fantastic opportunity to learn about our local environment and wildlife\, including koalas\, while making a real difference in restoring their habitat. \nIMPORTANT INFORMATION:\nRegistrations essential: WILD KOALA DAY – Koala Food Tree Planting Day – Balnarring Tickets\, Sunday 3 May  •  09 – 12:30 | Eventbrite \n☕ We’ll take a break for morning tea\, with coffee\, tea\, Milo\, and biscuits provided.\n👖 Please wear long pants and closed-toe shoes (preferably waterproof) as we’ll be walking through bushland and grassy areas.\n🧤 Bring your own hat\, gardening gloves\, water\, and snacks. We’ll supply all necessary tools. \n📍 The planting will take place on private property at 2918 Frankston Flinders Road\, Balnarring. Look for our big teardrop flag near the entrance.\n🚗 Drive in slowly and follow parking instructions upon arrival. \nWe can’t wait to see you there! 🌱🐨
URL:https://mplandcare.org.au/event/wild-koala-day-koala-food-tree-planting-day-balnarring/
LOCATION:2918 Frankston-Flinders Road\, 2918 Frankston-Flinders Road\, Balnarring\, VIC
CATEGORIES:Mornington Peninsula Koala Conservation
ORGANIZER;CN="Mornington Peninsula Koala Conservation Group":MAILTO:mpkoalatreeplanting@outlook.com
END:VEVENT
BEGIN:VEVENT
DTSTART;TZID=Australia/Melbourne:20260503T100000
DTEND;TZID=Australia/Melbourne:20260503T120000
DTSTAMP:20260421T185930
CREATED:20260415T004054Z
LAST-MODIFIED:20260415T004213Z
UID:5554-1777802400-1777809600@mplandcare.org.au
SUMMARY:Devilbend Biolink Restoration - Moorooduc Saddle Club
DESCRIPTION:Join us at Moorooduc Saddle Club to help us improve habitat in the Devilbend Biolink. \n\n\n\n\nJoin the Moorooduc Saddle Club in tackling plant dieback within the Devilbend Biolink\, a critical corridor linking remnant bushland and to the Devilbend Natural Features Reserve. \nCome help us to remove environmental weeds that compete for precious water resources with the existing climate stressed indigenous canopy layer. \nLed by bushland restoration specialists\, Seeds Bushland Restoration\, Moorooduc Saddle Club members will gain skills in plant identification and weed control techniques. \nThis knowledge will empower the Moorooduc Saddle Club volunteers to maintain and expand restoration efforts well beyond the life of the grant. Please note: NO PRIOR EXPERIENCE NECESSARY. \nBy removing weeds in the Devilbend Biolink\, we are not only protecting individual trees but also safeguarding wildlife corridors that allow species to move and adapt in response to climate change. \nThe MPLN is proud to lead this initiative in partnership with community groups\, MP Equine Landcare and Sheepwash Creek Catchment Landcare members. Together\, we are demonstrating that collaboration is key to building resilient landscapes. \nRegistrations essential: Devilbend Biolink Restoration – Moorooduc Saddle Club Tickets\, Sunday\, May 3  •  10 AM – 12 PM | Eventbrite \nWhat to bring: Water bottle\, snacks and gardening gloves. All other tools will be supplied. \nWear: Long sleeves and collared shirt\, long pants and sturdy footwear. Please dress for the conditions. \nParking:
URL:https://mplandcare.org.au/event/devilbend-biolink-restoration-moorooduc-saddle-club/
LOCATION:Moorooduc Saddle Club\, 552 Derril Road\, Moorooduc\, Vic\, 3933
ORGANIZER;CN="Mornington Peninsula Landcare Network":MAILTO:facilitator@mplandcare.org.au
END:VEVENT
END:VCALENDAR