BEGIN:VCALENDAR
VERSION:2.0
PRODID:-//MP Landcare - ECPv6.15.17.1//NONSGML v1.0//EN
CALSCALE:GREGORIAN
METHOD:PUBLISH
X-ORIGINAL-URL:https://mplandcare.org.au
X-WR-CALDESC:Events for MP Landcare
REFRESH-INTERVAL;VALUE=DURATION:PT1H
X-Robots-Tag:noindex
X-PUBLISHED-TTL:PT1H
BEGIN:VTIMEZONE
TZID:Australia/Melbourne
BEGIN:STANDARD
TZOFFSETFROM:+1100
TZOFFSETTO:+1000
TZNAME:AEST
DTSTART:20200404T160000
END:STANDARD
BEGIN:DAYLIGHT
TZOFFSETFROM:+1000
TZOFFSETTO:+1100
TZNAME:AEDT
DTSTART:20201003T160000
END:DAYLIGHT
BEGIN:STANDARD
TZOFFSETFROM:+1100
TZOFFSETTO:+1000
TZNAME:AEST
DTSTART:20210403T160000
END:STANDARD
BEGIN:DAYLIGHT
TZOFFSETFROM:+1000
TZOFFSETTO:+1100
TZNAME:AEDT
DTSTART:20211002T160000
END:DAYLIGHT
BEGIN:STANDARD
TZOFFSETFROM:+1100
TZOFFSETTO:+1000
TZNAME:AEST
DTSTART:20220402T160000
END:STANDARD
BEGIN:DAYLIGHT
TZOFFSETFROM:+1000
TZOFFSETTO:+1100
TZNAME:AEDT
DTSTART:20221001T160000
END:DAYLIGHT
END:VTIMEZONE
BEGIN:VEVENT
DTSTART;TZID=Australia/Melbourne:20210221T090000
DTEND;TZID=Australia/Melbourne:20210221T140000
DTSTAMP:20260425T015232
CREATED:20210210T025802Z
LAST-MODIFIED:20210210T033214Z
UID:2598-1613898000-1613916000@mplandcare.org.au
SUMMARY:Koala Conservation Day - Arthurs Seat State Park
DESCRIPTION:Spend the morning with us and help improve koala habitat in the beautiful Arthurs Seat State Park\, Rosebud.  This is a great opportunity to learn about our environment and to spot local wildlife\, including koalas\, while helping us to remove invasive weeds. \nImportant Information: It is important you wear long pants and closed shoes as we will be walking through bush areas. Please bring sunscreen\, a hat\, gardening gloves\, water and snacks. We have a good chance of spotting wildlife in this area so don’t forget your camera! We will provide all tools and hand sanitiser. Please follow state government COVID restrictions. \nPlease park at the end of Seabrook Ave\, Rosebud at the entrance to Arthurs Seat State Park.  We will meet at the park entrance gate. Alternative parking is at the end of Marion Rd\, Rosebud. You can walk into the park from there through a gate and then immediately turn right and walk downhill past the last property on Marion Rd until you get to Seabrook Ave. \nYou must register your attendance here via Eventbrite. Please only register if you are definitely attending as space is limited.
URL:https://mplandcare.org.au/event/koala-conservation-day-arthurs-seat-state-park/
LOCATION:Seabrook Avenue\, Seabrook Avenue\, Rosebud\, VIC\, 3939\, Australia
END:VEVENT
END:VCALENDAR