BEGIN:VCALENDAR
VERSION:2.0
PRODID:-//MP Landcare - ECPv6.15.17.1//NONSGML v1.0//EN
CALSCALE:GREGORIAN
METHOD:PUBLISH
X-WR-CALNAME:MP Landcare
X-ORIGINAL-URL:https://mplandcare.org.au
X-WR-CALDESC:Events for MP Landcare
REFRESH-INTERVAL;VALUE=DURATION:PT1H
X-Robots-Tag:noindex
X-PUBLISHED-TTL:PT1H
BEGIN:VTIMEZONE
TZID:Australia/Melbourne
BEGIN:STANDARD
TZOFFSETFROM:+1100
TZOFFSETTO:+1000
TZNAME:AEST
DTSTART:20200404T160000
END:STANDARD
BEGIN:DAYLIGHT
TZOFFSETFROM:+1000
TZOFFSETTO:+1100
TZNAME:AEDT
DTSTART:20201003T160000
END:DAYLIGHT
BEGIN:STANDARD
TZOFFSETFROM:+1100
TZOFFSETTO:+1000
TZNAME:AEST
DTSTART:20210403T160000
END:STANDARD
BEGIN:DAYLIGHT
TZOFFSETFROM:+1000
TZOFFSETTO:+1100
TZNAME:AEDT
DTSTART:20211002T160000
END:DAYLIGHT
BEGIN:STANDARD
TZOFFSETFROM:+1100
TZOFFSETTO:+1000
TZNAME:AEST
DTSTART:20220402T160000
END:STANDARD
BEGIN:DAYLIGHT
TZOFFSETFROM:+1000
TZOFFSETTO:+1100
TZNAME:AEDT
DTSTART:20221001T160000
END:DAYLIGHT
END:VTIMEZONE
BEGIN:VEVENT
DTSTART;TZID=Australia/Melbourne:20210105T080000
DTEND;TZID=Australia/Melbourne:20210105T170000
DTSTAMP:20260425T031058
CREATED:20210104T230437Z
LAST-MODIFIED:20210104T230514Z
UID:2490-1609833600-1609866000@mplandcare.org.au
SUMMARY:Sheepwash Creek Catchment Landcare Working Bee
DESCRIPTION:Sheepwash Creek Catchment Landcare Group are are hosting their first working bee for the year on Sunday 14th February. Come along and help to restore important habitat for local wildlife. \nMeeting Place: 451 Arthurs Seat Rd\, Red Hill at 9.30am \nNew members and enquiries welcome: sheepwashcreek@mplandcare.org.au \n 
URL:https://mplandcare.org.au/event/sheepwash-creek-catchment-landcare-working-bee/
END:VEVENT
END:VCALENDAR